BEGIN:VCALENDAR
VERSION:2.0
PRODID:-//Second City Counseling Services - ECPv6.15.20//NONSGML v1.0//EN
CALSCALE:GREGORIAN
METHOD:PUBLISH
X-WR-CALNAME:Second City Counseling Services
X-ORIGINAL-URL:https://hi-sccs.com
X-WR-CALDESC:Events for Second City Counseling Services
REFRESH-INTERVAL;VALUE=DURATION:PT1H
X-Robots-Tag:noindex
X-PUBLISHED-TTL:PT1H
BEGIN:VTIMEZONE
TZID:Pacific/Honolulu
BEGIN:STANDARD
TZOFFSETFROM:-1000
TZOFFSETTO:-1000
TZNAME:HST
DTSTART:20250101T000000
END:STANDARD
END:VTIMEZONE
BEGIN:VEVENT
DTSTART;TZID=Pacific/Honolulu:20260424T080000
DTEND;TZID=Pacific/Honolulu:20260424T093000
DTSTAMP:20260419T221041
CREATED:20260330T203803Z
LAST-MODIFIED:20260401T014646Z
UID:3134-1777017600-1777023000@hi-sccs.com
SUMMARY:ONLINE - Ready Enough Together
DESCRIPTION:A Couples Climate Workshop\nClimate change affects couples not only practically\, but emotionally and relationally as well. In this free 90-minute Earth Day workshop\, couples will be guided through a structured\, supportive process to identify climate-related stressors\, explore how stress shows up in their relationship\, and create a realistic “ready enough” plan for staying connected when things get rough. This is not a disaster prep class or couples therapy\, but a practical\, reflective workshop designed to help partners build resilience\, improve communication\, and feel more grounded in the face of uncertainty. \nPlease email us at hello@sccsinfo.com for more information.
URL:https://hi-sccs.com/event/online-ready-enough-together/
LOCATION:Online
CATEGORIES:Climate Change,Couples,Disaster Mental Health,Relationships
ORGANIZER;CN="SCCS":MAILTO:connectsccs@outlook.com
END:VEVENT
BEGIN:VEVENT
DTSTART;TZID=Pacific/Honolulu:20260425T100000
DTEND;TZID=Pacific/Honolulu:20260425T113000
DTSTAMP:20260419T221041
CREATED:20260330T210401Z
LAST-MODIFIED:20260401T014725Z
UID:3146-1777111200-1777116600@hi-sccs.com
SUMMARY:WAIPAHU - Ready Enough Together (In-Person)
DESCRIPTION:A couples climate workshop.\nClimate change affects couples not only practically\, but emotionally and relationally as well. In this free\, in-person 90-minute Earth Day workshop\, couples will be guided through a structured\, supportive process to identify climate-related stressors\, explore how stress shows up in their relationship\, and create a realistic “ready enough” plan for staying connected when things get rough. This is not a disaster prep class or couples therapy\, but a practical\, reflective workshop designed to help partners build resilience\, improve communication\, and feel more grounded in the face of uncertainty. \nThis event will be located in Waipahu\, O’ahu and space is limited. Please email us at hello@sccsinfo.com for more information.
URL:https://hi-sccs.com/event/waipahu-ready-enough-together-in-person/
LOCATION:SCCS Waipahu\, Waipahu\, HI\, 96797\, United States
CATEGORIES:Climate Change,Couples,Disaster Mental Health,Relationships
ORGANIZER;CN="SCCS":MAILTO:connectsccs@outlook.com
END:VEVENT
END:VCALENDAR